BEGIN:VCALENDAR
VERSION:2.0
PRODID:icalendar-ruby
CALSCALE:GREGORIAN
METHOD:PUBLISH
BEGIN:VEVENT
DTSTAMP:20260423T080924Z
UID:54-1564066@thetablecma.org
DTSTART:20261023T220000Z
DTEND:20261024T030000Z
CLASS:PUBLIC
CREATED:20260422T213241
DESCRIPTION:Come to join with us!\nContact James Brook for more information
 : kjamesbrooks27@gmail.com
LAST-MODIFIED:20260422T213241
LOCATION:The Table Church C&MA
SUMMARY:ASL Game Night
URL;VALUE=URI:https://www.thetablecma.org/events/asl-game-night/2026-10-23
ATTACH;FILENAME=ASL-Game-Night-%282%29.png;FMTTYPE=image/png:https://dq5pwp
 g1q8ru0.cloudfront.net/2025/06/25/20/20/02/7044b0dc-915c-45e3-8658-65d395f
 df48b/ASL-Game-Night-%25282%2529.png
END:VEVENT
END:VCALENDAR
